BEGIN:VCALENDAR
VERSION:2.0
PRODID:-//FunkStation Gallery &amp; Club - ECPv5.2.1.1//NONSGML v1.0//EN
CALSCALE:GREGORIAN
METHOD:PUBLISH
X-WR-CALNAME:FunkStation Gallery &amp; Club
X-ORIGINAL-URL:https://funkstation.cz
X-WR-CALDESC:Akce na FunkStation Gallery &amp; Club
BEGIN:VTIMEZONE
TZID:Europe/Prague
BEGIN:DAYLIGHT
TZOFFSETFROM:+0100
TZOFFSETTO:+0200
TZNAME:CEST
DTSTART:20260329T010000
END:DAYLIGHT
BEGIN:STANDARD
TZOFFSETFROM:+0200
TZOFFSETTO:+0100
TZNAME:CET
DTSTART:20261025T010000
END:STANDARD
END:VTIMEZONE
BEGIN:VEVENT
DTSTART;TZID=Europe/Prague:20260502T200000
DTEND;TZID=Europe/Prague:20260503T040000
DTSTAMP:20260424T130057
CREATED:20260424T073504Z
LAST-MODIFIED:20260424T073504Z
UID:2764-1777752000-1777780800@funkstation.cz
SUMMARY:Body Beat
DESCRIPTION:AGGROTECH | DARK ELECTRO | ELECTRO-INDUSTRIALcyberpunk & postapo | cybergoth & rivetheadmutant friendly party\nMusic:20.00 | Chrom22.00 | Daniael00.00 | W3r3dr4g0n02.00 | Lai6\nShow:00.00 | Lady Leviathan [ dance / tease / candlelight body art ]
URL:https://funkstation.cz/event/body-beat-22/
LOCATION:FunkStation\, Petrohradská 216/3\, Praha 10\, Czech Republic
ATTACH;FMTTYPE=image/jpeg:https://funkstation.cz/wp-content/uploads/2026/04/678378030_1406821821247103_6509632877962411885_n.jpg
END:VEVENT
END:VCALENDAR