BEGIN:VCALENDAR
VERSION:2.0
PRODID:-//FunkStation Gallery &amp; Club - ECPv5.2.1.1//NONSGML v1.0//EN
CALSCALE:GREGORIAN
METHOD:PUBLISH
X-WR-CALNAME:FunkStation Gallery &amp; Club
X-ORIGINAL-URL:https://funkstation.cz
X-WR-CALDESC:Akce na FunkStation Gallery &amp; Club
BEGIN:VTIMEZONE
TZID:Europe/Prague
BEGIN:DAYLIGHT
TZOFFSETFROM:+0100
TZOFFSETTO:+0200
TZNAME:CEST
DTSTART:20240331T010000
END:DAYLIGHT
BEGIN:STANDARD
TZOFFSETFROM:+0200
TZOFFSETTO:+0100
TZNAME:CET
DTSTART:20241027T010000
END:STANDARD
END:VTIMEZONE
BEGIN:VEVENT
DTSTART;TZID=Europe/Prague:20241018T210000
DTEND;TZID=Europe/Prague:20241019T040000
DTSTAMP:20260420T072255
CREATED:20241017T134117Z
LAST-MODIFIED:20241017T134117Z
UID:2016-1729285200-1729310400@funkstation.cz
SUMMARY:BRINGSTONE AND FRIENDS
DESCRIPTION:Drumandbass
URL:https://funkstation.cz/event/bringstone-and-friends/
LOCATION:FunkStation\, Petrohradská 216/3\, Praha 10\, Czech Republic
ATTACH;FMTTYPE=image/jpeg:https://funkstation.cz/wp-content/uploads/2024/10/462271843_923604283204910_7222735602476848087_n.jpg
END:VEVENT
END:VCALENDAR