BEGIN:VCALENDAR
VERSION:2.0
PRODID:-//FunkStation Gallery &amp; Club - ECPv5.2.1.1//NONSGML v1.0//EN
CALSCALE:GREGORIAN
METHOD:PUBLISH
X-WR-CALNAME:FunkStation Gallery &amp; Club
X-ORIGINAL-URL:https://funkstation.cz
X-WR-CALDESC:Akce na FunkStation Gallery &amp; Club
BEGIN:VTIMEZONE
TZID:Europe/Prague
BEGIN:DAYLIGHT
TZOFFSETFROM:+0100
TZOFFSETTO:+0200
TZNAME:CEST
DTSTART:20260329T010000
END:DAYLIGHT
BEGIN:STANDARD
TZOFFSETFROM:+0200
TZOFFSETTO:+0100
TZNAME:CET
DTSTART:20261025T010000
END:STANDARD
END:VTIMEZONE
BEGIN:VEVENT
DTSTART;TZID=Europe/Prague:20260503T160000
DTEND;TZID=Europe/Prague:20260503T220000
DTSTAMP:20260424T132107
CREATED:20260424T074619Z
LAST-MODIFIED:20260424T074619Z
UID:2770-1777824000-1777845600@funkstation.cz
SUMMARY:Sunday freestyle session vol.2
DESCRIPTION:Open mic a nejen to.Přijď na dobré pivo\, skvělou hudbu a nepřekonatelnou improvizaci.  \n  \nVSTUP VOLNÝ
URL:https://funkstation.cz/event/sunday-freestyle-session-vol-2/
LOCATION:FunkStation\, Petrohradská 216/3\, Praha 10\, Czech Republic
ATTACH;FMTTYPE=image/jpeg:https://funkstation.cz/wp-content/uploads/2026/04/677237603_10230174440575236_3212922182682350169_n.jpg
END:VEVENT
END:VCALENDAR