BEGIN:VCALENDAR
VERSION:2.0
PRODID:-//FunkStation Gallery &amp; Club - ECPv5.2.1.1//NONSGML v1.0//EN
CALSCALE:GREGORIAN
METHOD:PUBLISH
X-WR-CALNAME:FunkStation Gallery &amp; Club
X-ORIGINAL-URL:https://funkstation.cz
X-WR-CALDESC:Akce na FunkStation Gallery &amp; Club
BEGIN:VTIMEZONE
TZID:Europe/Prague
BEGIN:DAYLIGHT
TZOFFSETFROM:+0100
TZOFFSETTO:+0200
TZNAME:CEST
DTSTART:20240331T010000
END:DAYLIGHT
BEGIN:STANDARD
TZOFFSETFROM:+0200
TZOFFSETTO:+0100
TZNAME:CET
DTSTART:20241027T010000
END:STANDARD
END:VTIMEZONE
BEGIN:VEVENT
DTSTART;TZID=Europe/Prague:20240223T210000
DTEND;TZID=Europe/Prague:20240224T023000
DTSTAMP:20260421T101749
CREATED:20240114T190902Z
LAST-MODIFIED:20240118T182520Z
UID:1924-1708722000-1708741800@funkstation.cz
SUMMARY:TERMINAL
DESCRIPTION:🧭\nNaší další zastávkou zimních klubovek bude FunkStation ve Vršovicích!\n🚇\nHostující strojvůdci jsou:\nDepilates (Deposit)\nDeakee (Morfa)\n🎚️🎛️\nSvezeme se v rytmu techna\, acidu a tekna🔊🎼\nDoraž za náma\, věříme\, že si užijeme páteční jízdu naplno! 🚂🕺💃
URL:https://funkstation.cz/event/terminal/
LOCATION:FunkStation\, Petrohradská 216/3\, Praha 10\, Czech Republic
ATTACH;FMTTYPE=image/jpeg:https://funkstation.cz/wp-content/uploads/2024/01/specida.jpg
END:VEVENT
END:VCALENDAR